BEGIN:VCALENDAR
VERSION:2.0
PRODID:-//Trallafitti Kaline - Die Ausflugsplattform im Münsterland - ECPv6.15.20//NONSGML v1.0//EN
CALSCALE:GREGORIAN
METHOD:PUBLISH
X-WR-CALNAME:Trallafitti Kaline - Die Ausflugsplattform im Münsterland
X-ORIGINAL-URL:https://trallafittikaline.de
X-WR-CALDESC:Veranstaltungen für Trallafitti Kaline - Die Ausflugsplattform im Münsterland
REFRESH-INTERVAL;VALUE=DURATION:PT1H
X-Robots-Tag:noindex
X-PUBLISHED-TTL:PT1H
BEGIN:VTIMEZONE
TZID:Europe/Paris
BEGIN:DAYLIGHT
TZOFFSETFROM:+0100
TZOFFSETTO:+0200
TZNAME:CEST
DTSTART:20250330T010000
END:DAYLIGHT
BEGIN:STANDARD
TZOFFSETFROM:+0200
TZOFFSETTO:+0100
TZNAME:CET
DTSTART:20251026T010000
END:STANDARD
BEGIN:DAYLIGHT
TZOFFSETFROM:+0100
TZOFFSETTO:+0200
TZNAME:CEST
DTSTART:20260329T010000
END:DAYLIGHT
BEGIN:STANDARD
TZOFFSETFROM:+0200
TZOFFSETTO:+0100
TZNAME:CET
DTSTART:20261025T010000
END:STANDARD
BEGIN:DAYLIGHT
TZOFFSETFROM:+0100
TZOFFSETTO:+0200
TZNAME:CEST
DTSTART:20270328T010000
END:DAYLIGHT
BEGIN:STANDARD
TZOFFSETFROM:+0200
TZOFFSETTO:+0100
TZNAME:CET
DTSTART:20271031T010000
END:STANDARD
END:VTIMEZONE
BEGIN:VEVENT
DTSTART;TZID=Europe/Paris:20260426T110000
DTEND;TZID=Europe/Paris:20260426T110000
DTSTAMP:20260422T150650
CREATED:20260420T142659Z
LAST-MODIFIED:20260420T142659Z
UID:10000104-1777201200-1777201200@trallafittikaline.de
SUMMARY:Fahrradflohmarkt
DESCRIPTION:Du hast noch ein altes Rad im Keller oder suchst ein neues Gefährt für den Frühling? \nDann komm am 26.April zu unserem Fahrradflohmarkt auf dem Wettringer Dorffest! \nSo einfach funktioniert’s: \nAbgabe: Bring dein Fahrrad ab 10:30 Uhr zu unserem Stand. \nPreis: Du legst den Verkaufspreis selbst fest. \nVermittlung: Wir übernehmen den Rest und versuchen\, dein Rad an neue Besitzer zu vermitteln. \nKosten: Unser Service ist für dich komplett kostenfrei! \nWas wir vermitteln: \nNeben klassischen Fahrrädern oder E-Bikes nehmen wir auch gerne: \nKinderrader\nKettcars\nTretroller & Dreiräder\nFahrradanhänger \n\nWichtig: Nicht verkaufte Fahrzeuge müssen bis spätestens 18:00 Uhr wieder bei uns abgeholt werden.
URL:https://trallafittikaline.de/event/fahrradflohmarkt/
LOCATION:Wettringen\, Wettringen\, NRW\, 48493\, Germany
CATEGORIES:Fahrradbörse,Kostenlos,Outdoor,Veranstaltung
ATTACH;FMTTYPE=image/png:https://trallafittikaline.de/wp-content/uploads/Beige-Weiss-Modern-Instagram-Post-Collage-Skincare-2.png
END:VEVENT
END:VCALENDAR