BEGIN:VCALENDAR
VERSION:2.0
PRODID:-//Trallafitti Kaline - Die Ausflugsplattform im Münsterland - ECPv6.15.20//NONSGML v1.0//EN
CALSCALE:GREGORIAN
METHOD:PUBLISH
X-ORIGINAL-URL:https://trallafittikaline.de
X-WR-CALDESC:Veranstaltungen für Trallafitti Kaline - Die Ausflugsplattform im Münsterland
REFRESH-INTERVAL;VALUE=DURATION:PT1H
X-Robots-Tag:noindex
X-PUBLISHED-TTL:PT1H
BEGIN:VTIMEZONE
TZID:Europe/Paris
BEGIN:DAYLIGHT
TZOFFSETFROM:+0100
TZOFFSETTO:+0200
TZNAME:CEST
DTSTART:20250330T010000
END:DAYLIGHT
BEGIN:STANDARD
TZOFFSETFROM:+0200
TZOFFSETTO:+0100
TZNAME:CET
DTSTART:20251026T010000
END:STANDARD
BEGIN:DAYLIGHT
TZOFFSETFROM:+0100
TZOFFSETTO:+0200
TZNAME:CEST
DTSTART:20260329T010000
END:DAYLIGHT
BEGIN:STANDARD
TZOFFSETFROM:+0200
TZOFFSETTO:+0100
TZNAME:CET
DTSTART:20261025T010000
END:STANDARD
BEGIN:DAYLIGHT
TZOFFSETFROM:+0100
TZOFFSETTO:+0200
TZNAME:CEST
DTSTART:20270328T010000
END:DAYLIGHT
BEGIN:STANDARD
TZOFFSETFROM:+0200
TZOFFSETTO:+0100
TZNAME:CET
DTSTART:20271031T010000
END:STANDARD
END:VTIMEZONE
BEGIN:VEVENT
DTSTART;TZID=Europe/Paris:20260423T090000
DTEND;TZID=Europe/Paris:20260423T160000
DTSTAMP:20260422T151519
CREATED:20260420T140840Z
LAST-MODIFIED:20260420T140840Z
UID:10000100-1776934800-1776960000@trallafittikaline.de
SUMMARY:Girls' Day 2026 am Fachbereich Physik
DESCRIPTION:Girls‘ Day 2026 am Fachbereich Physik \nWas ist eigentlich Physik? Was macht eine Physikerin den ganzen Tag? Und wo steckt Physik in der Medizin? \nBeim Girls‘ Day am Fachbereich Physik der Universität Münster bekommt ihr spannende Einblicke in den Unialltag und entdeckt\, wie vielseitig Physik wirklich ist. \nFreut euch auf: \n\nEinblicke in Labore und Forschungsbereiche\nInfos rund ums Physikstudium\nspannende Experimente in kleinen Gruppen\nMedizinphysik zum Anfassen\nZeit für eure Fragen rund um Studium\, Beruf und Forschung\n\nWann? \nDonnerstag\, 23.04.2026 • 9:00-16:00 Uhr \nWO? \nFachbereich Physik der Universität Münster \nFur wen? \n• Schülerinnen ab der 7. Klasse \n* Anmeldung über die Girls’Day-Homepage \nAlles\, was ihr mitbringen müsst\, ist Neugier und Lust aufs Entdecken – für Essen\, Getränke sowie Material ist gesorgt * \nWichtiger Hinweis: Im Rahmen des Programms sprechen wir auch über schwere Krankheiten\, Krebs und Strahlentherapie. \n 
URL:https://trallafittikaline.de/event/girls-day-2026-am-fachbereich-physik/
LOCATION:Uni Münster\, Fachbereich Physik\, Robert-Koch-Straße 40\, Münster\, NRW\, Germany
CATEGORIES:Kostenlos,Kurse für Kinder,Veranstaltung
ATTACH;FMTTYPE=image/png:https://trallafittikaline.de/wp-content/uploads/Maedchen_Physik.png
ORGANIZER;CN="Q.UNI - Kinder- und Jugend-Uni M%C3%BCnster":MAILTO:quni@uni-muenster.de
END:VEVENT
BEGIN:VEVENT
DTSTART;TZID=Europe/Paris:20260425T101500
DTEND;TZID=Europe/Paris:20260425T111500
DTSTAMP:20260422T151519
CREATED:20260420T135316Z
LAST-MODIFIED:20260420T135316Z
UID:10000098-1777112100-1777115700@trallafittikaline.de
SUMMARY:Q.UNI unterwegs
DESCRIPTION:Q.UNI ist wieder unterwegs in der Stadtbücherei Münster! \nDiesmal geht’s mit der „Kletterrakete – Von der Schnur ins All“ hoch hinaus. Gemeinsam basteln wir eine eigene Kletterrakete und entdecken spielerisch\, wie das Rückstoßprinzip funktioniert. \nSamstag\, 25. April 10:15-11:15 Uhr und 11:30-12:30 Uhr \nStadtbücherei Münster\, Kinderbücherei\, Alter Steinweg 11 \nDer Workshop richtet sich an Kinder von 6 bis 10 Jahren. \nMaximal 12 Kinder pro Durchgang! \nKostenlose Teilnahmekarten gibt es ab 10 Uhr in der Kinderbücherei. \nDie Aufsichtspflicht liegt bei den Erziehungsberechtigten. \n 
URL:https://trallafittikaline.de/event/q-uni-unterwegs/2026-04-25/1/
LOCATION:Stadtbücherei Münster\, Alter Steinweg 11\, Münster\, 48143\, Germany
CATEGORIES:Für Kinder ab 6 Jahren,Kostenlos,Kurse für Kinder,Veranstaltung
ATTACH;FMTTYPE=image/png:https://trallafittikaline.de/wp-content/uploads/Kinder-Uni.png
ORGANIZER;CN="Q.UNI - Kinder- und Jugend-Uni M%C3%BCnster":MAILTO:quni@uni-muenster.de
END:VEVENT
BEGIN:VEVENT
DTSTART;TZID=Europe/Paris:20260509T140000
DTEND;TZID=Europe/Paris:20260509T170000
DTSTAMP:20260422T151519
CREATED:20260420T141302Z
LAST-MODIFIED:20260420T141302Z
UID:10000101-1778335200-1778346000@trallafittikaline.de
SUMMARY:Frag Sophie - Lese- und Mitmachstand
DESCRIPTION:
URL:https://trallafittikaline.de/event/frag-sophie-lese-und-mitmachstand/
LOCATION:Flugzeugspielplatz\, Münster\, Am Breul 16b\, Münster\, NRW\, 48143\, Germany
CATEGORIES:Outdoor,Veranstaltung
ATTACH;FMTTYPE=image/png:https://trallafittikaline.de/wp-content/uploads/Kinder-Uni.png
ORGANIZER;CN="Q.UNI - Kinder- und Jugend-Uni M%C3%BCnster":MAILTO:quni@uni-muenster.de
END:VEVENT
BEGIN:VEVENT
DTSTART;TZID=Europe/Paris:20260530T101500
DTEND;TZID=Europe/Paris:20260530T111500
DTSTAMP:20260422T151519
CREATED:20260420T141633Z
LAST-MODIFIED:20260420T141633Z
UID:10000102-1780136100-1780139700@trallafittikaline.de
SUMMARY:Q.UNI unterwegs in der Stadtbücherei
DESCRIPTION:Astronomie kreativ erleben – Sternbilder zum Anfassen
URL:https://trallafittikaline.de/event/q-uni-unterwegs-in-der-stadtbuecherei/2026-05-30/1/
LOCATION:Stadtbücherei Münster\, Alter Steinweg 11\, Münster\, 48143\, Germany
CATEGORIES:Für Kinder ab 6 Jahren,Kostenlos,Kurse für Kinder,Veranstaltung
ATTACH;FMTTYPE=image/png:https://trallafittikaline.de/wp-content/uploads/Kinder-Uni.png
ORGANIZER;CN="Q.UNI - Kinder- und Jugend-Uni M%C3%BCnster":MAILTO:quni@uni-muenster.de
END:VEVENT
END:VCALENDAR