BEGIN:VCALENDAR
VERSION:2.0
PRODID:-//Trallafitti Kaline - Die Ausflugsplattform im Münsterland - ECPv6.15.20//NONSGML v1.0//EN
CALSCALE:GREGORIAN
METHOD:PUBLISH
X-ORIGINAL-URL:https://trallafittikaline.de
X-WR-CALDESC:Veranstaltungen für Trallafitti Kaline - Die Ausflugsplattform im Münsterland
REFRESH-INTERVAL;VALUE=DURATION:PT1H
X-Robots-Tag:noindex
X-PUBLISHED-TTL:PT1H
BEGIN:VTIMEZONE
TZID:Europe/Paris
BEGIN:DAYLIGHT
TZOFFSETFROM:+0100
TZOFFSETTO:+0200
TZNAME:CEST
DTSTART:20250330T010000
END:DAYLIGHT
BEGIN:STANDARD
TZOFFSETFROM:+0200
TZOFFSETTO:+0100
TZNAME:CET
DTSTART:20251026T010000
END:STANDARD
BEGIN:DAYLIGHT
TZOFFSETFROM:+0100
TZOFFSETTO:+0200
TZNAME:CEST
DTSTART:20260329T010000
END:DAYLIGHT
BEGIN:STANDARD
TZOFFSETFROM:+0200
TZOFFSETTO:+0100
TZNAME:CET
DTSTART:20261025T010000
END:STANDARD
BEGIN:DAYLIGHT
TZOFFSETFROM:+0100
TZOFFSETTO:+0200
TZNAME:CEST
DTSTART:20270328T010000
END:DAYLIGHT
BEGIN:STANDARD
TZOFFSETFROM:+0200
TZOFFSETTO:+0100
TZNAME:CET
DTSTART:20271031T010000
END:STANDARD
END:VTIMEZONE
BEGIN:VEVENT
DTSTART;TZID=Europe/Paris:20260426T100000
DTEND;TZID=Europe/Paris:20260426T180000
DTSTAMP:20260424T155328
CREATED:20260422T205620Z
LAST-MODIFIED:20260422T205620Z
UID:10000135-1777197600-1777226400@trallafittikaline.de
SUMMARY:Trödelmarkt
DESCRIPTION:Dieses Wochenende findet wieder der Trödelmarkt auf dem Mühlenhof statt! \nZahlreiche Stände haben ein buntes Sammelsurium an Trödel im Gepäck. Hier könnt ihr z.B. Kinderkleidung\, Bücher\, Spiele\, Deko und vieles mehr finden! \nEs gelten die regulären Eintrittspreise. Weitere Informationen findet ihr auf unserer Website: muehlenhof-muenster.org
URL:https://trallafittikaline.de/event/troedelmarkt/
LOCATION:Mühlenhof Frielichtmuseum\, Münster\, Theo-Breider-Weg 1\, Münster\, NRW\, 48149\, Germany
CATEGORIES:Flohmarkt,Münster,Outdoor,Veranstaltung
ATTACH;FMTTYPE=image/png:https://trallafittikaline.de/wp-content/uploads/5-11.png
ORGANIZER;CN="M%C3%BChlenhof Freilichtmuseum M%C3%BCnster":MAILTO:info@muehlenhof-muenster.org
END:VEVENT
END:VCALENDAR