BEGIN:VCALENDAR
VERSION:2.0
PRODID:-//Trallafitti Kaline - Die Ausflugsplattform im Münsterland - ECPv6.15.20//NONSGML v1.0//EN
CALSCALE:GREGORIAN
METHOD:PUBLISH
X-ORIGINAL-URL:https://trallafittikaline.de
X-WR-CALDESC:Veranstaltungen für Trallafitti Kaline - Die Ausflugsplattform im Münsterland
REFRESH-INTERVAL;VALUE=DURATION:PT1H
X-Robots-Tag:noindex
X-PUBLISHED-TTL:PT1H
BEGIN:VTIMEZONE
TZID:Europe/Paris
BEGIN:DAYLIGHT
TZOFFSETFROM:+0100
TZOFFSETTO:+0200
TZNAME:CEST
DTSTART:20250330T010000
END:DAYLIGHT
BEGIN:STANDARD
TZOFFSETFROM:+0200
TZOFFSETTO:+0100
TZNAME:CET
DTSTART:20251026T010000
END:STANDARD
BEGIN:DAYLIGHT
TZOFFSETFROM:+0100
TZOFFSETTO:+0200
TZNAME:CEST
DTSTART:20260329T010000
END:DAYLIGHT
BEGIN:STANDARD
TZOFFSETFROM:+0200
TZOFFSETTO:+0100
TZNAME:CET
DTSTART:20261025T010000
END:STANDARD
BEGIN:DAYLIGHT
TZOFFSETFROM:+0100
TZOFFSETTO:+0200
TZNAME:CEST
DTSTART:20270328T010000
END:DAYLIGHT
BEGIN:STANDARD
TZOFFSETFROM:+0200
TZOFFSETTO:+0100
TZNAME:CET
DTSTART:20271031T010000
END:STANDARD
END:VTIMEZONE
BEGIN:VEVENT
DTSTART;TZID=Europe/Paris:20260425T093000
DTEND;TZID=Europe/Paris:20260425T120000
DTSTAMP:20260424T154831
CREATED:20260422T201727Z
LAST-MODIFIED:20260422T201753Z
UID:10000132-1777109400-1777118400@trallafittikaline.de
SUMMARY:Frauenflohmarkt
DESCRIPTION:Frauenkleiderbörse in Legden \nFrühjahr 2026\nMit selbstgebackenem Kuchen zum mitnehmen\nSamstag\, 25. April 2026 9:30 bis 12:00 Uhr\nim Pfarrheim Legden\nVikar-Entrup-Straße 4
URL:https://trallafittikaline.de/event/2368/
LOCATION:Pfarrheim Legden\, Vikar-Entrup-Straße 4\, Legden\, NRW\, 48739\, Germany
CATEGORIES:Flohmarkt,Kostenlos,Kreis Borken,Secondhand,Veranstaltung
ATTACH;FMTTYPE=image/png:https://trallafittikaline.de/wp-content/uploads/Beige-Weiss-Modern-Instagram-Post-Collage-Skincare-3.png
ORGANIZER;CN="Kolping Legden":MAILTO:kleiderboerse.legden@outlook.de
END:VEVENT
END:VCALENDAR