BEGIN:VCALENDAR
VERSION:2.0
PRODID:-//Trallafitti Kaline - Die Ausflugsplattform im Münsterland - ECPv6.15.20//NONSGML v1.0//EN
CALSCALE:GREGORIAN
METHOD:PUBLISH
X-WR-CALNAME:Trallafitti Kaline - Die Ausflugsplattform im Münsterland
X-ORIGINAL-URL:https://trallafittikaline.de
X-WR-CALDESC:Veranstaltungen für Trallafitti Kaline - Die Ausflugsplattform im Münsterland
REFRESH-INTERVAL;VALUE=DURATION:PT1H
X-Robots-Tag:noindex
X-PUBLISHED-TTL:PT1H
BEGIN:VTIMEZONE
TZID:Europe/Paris
BEGIN:DAYLIGHT
TZOFFSETFROM:+0100
TZOFFSETTO:+0200
TZNAME:CEST
DTSTART:20250330T010000
END:DAYLIGHT
BEGIN:STANDARD
TZOFFSETFROM:+0200
TZOFFSETTO:+0100
TZNAME:CET
DTSTART:20251026T010000
END:STANDARD
BEGIN:DAYLIGHT
TZOFFSETFROM:+0100
TZOFFSETTO:+0200
TZNAME:CEST
DTSTART:20260329T010000
END:DAYLIGHT
BEGIN:STANDARD
TZOFFSETFROM:+0200
TZOFFSETTO:+0100
TZNAME:CET
DTSTART:20261025T010000
END:STANDARD
BEGIN:DAYLIGHT
TZOFFSETFROM:+0100
TZOFFSETTO:+0200
TZNAME:CEST
DTSTART:20270328T010000
END:DAYLIGHT
BEGIN:STANDARD
TZOFFSETFROM:+0200
TZOFFSETTO:+0100
TZNAME:CET
DTSTART:20271031T010000
END:STANDARD
END:VTIMEZONE
BEGIN:VEVENT
DTSTART;TZID=Europe/Paris:20260417T160000
DTEND;TZID=Europe/Paris:20260417T190000
DTSTAMP:20260422T134443
CREATED:20260415T202121Z
LAST-MODIFIED:20260415T202121Z
UID:10000080-1776441600-1776452400@trallafittikaline.de
SUMMARY:Kinder Disco | Rheine-Mesum
DESCRIPTION:Am 17.04. wird es laut\, bunt und richtig cool in der Turnhalle der HOT Alte Dame! \nDiese Party hat eine besondere Geschichte: \nDie Initiative kommt von Jan (JH Events)\, der früher selbst bei unseren Kinder- & Teeniediscos am Start war – erst als Besucher\, später als Mitorganisator. Jetzt bringt er das Ganze zurück! \nGemeinsam starten wir einen Testballon – und der hat es in sich: \n\nfette Beats & Sounds & echtes Partyequipment\ngratis Slusheis (erst mal 1 pro Person)\nEintritt ist komplett frei!\n\nWichtig: \nMax. 120 Plätze – wenn voll\, dann voll.\nUnd beim Slusheis gilt: wenn weg\, dann weg \nHOT Alte Dame\, Rheine-Mesum\n17.04.2026\n16:00 – 19:00 Uhr\nFür Kinder von 6-12 Jahren
URL:https://trallafittikaline.de/event/kinder-disco-rheine-mesum/
LOCATION:HOT Alte Dame\, Rheine-Mesum\, Veenstr. 5\, Rheine-Mesum\, NRW\, 48432\, Germany
CATEGORIES:Veranstaltung
ATTACH;FMTTYPE=image/png:https://trallafittikaline.de/wp-content/uploads/Kinderdisco.png
END:VEVENT
END:VCALENDAR