BEGIN:VCALENDAR
VERSION:2.0
PRODID:-//Trallafitti Kaline - Die Ausflugsplattform im Münsterland - ECPv6.15.20//NONSGML v1.0//EN
CALSCALE:GREGORIAN
METHOD:PUBLISH
X-WR-CALNAME:Trallafitti Kaline - Die Ausflugsplattform im Münsterland
X-ORIGINAL-URL:https://trallafittikaline.de
X-WR-CALDESC:Veranstaltungen für Trallafitti Kaline - Die Ausflugsplattform im Münsterland
REFRESH-INTERVAL;VALUE=DURATION:PT1H
X-Robots-Tag:noindex
X-PUBLISHED-TTL:PT1H
BEGIN:VTIMEZONE
TZID:Europe/Paris
BEGIN:DAYLIGHT
TZOFFSETFROM:+0100
TZOFFSETTO:+0200
TZNAME:CEST
DTSTART:20250330T010000
END:DAYLIGHT
BEGIN:STANDARD
TZOFFSETFROM:+0200
TZOFFSETTO:+0100
TZNAME:CET
DTSTART:20251026T010000
END:STANDARD
BEGIN:DAYLIGHT
TZOFFSETFROM:+0100
TZOFFSETTO:+0200
TZNAME:CEST
DTSTART:20260329T010000
END:DAYLIGHT
BEGIN:STANDARD
TZOFFSETFROM:+0200
TZOFFSETTO:+0100
TZNAME:CET
DTSTART:20261025T010000
END:STANDARD
BEGIN:DAYLIGHT
TZOFFSETFROM:+0100
TZOFFSETTO:+0200
TZNAME:CEST
DTSTART:20270328T010000
END:DAYLIGHT
BEGIN:STANDARD
TZOFFSETFROM:+0200
TZOFFSETTO:+0100
TZNAME:CET
DTSTART:20271031T010000
END:STANDARD
END:VTIMEZONE
BEGIN:VEVENT
DTSTART;TZID=Europe/Paris:20260419T110000
DTEND;TZID=Europe/Paris:20260419T180000
DTSTAMP:20260422T132633
CREATED:20260415T200358Z
LAST-MODIFIED:20260415T200358Z
UID:10000079-1776596400-1776621600@trallafittikaline.de
SUMMARY:Frühlingsfest | Schöppingen
DESCRIPTION:🌸 Frühlingsfest Schöppingen mit verkaufsoffenem Sonntag \nAm Sonntag\, 19. April 2026 (11–18 Uhr) wird es in Schöppingen wieder bunt\, lebendig und familienfreundlich! \nFreut euch auf ein abwechslungsreiches Programm für Groß und Klein: \n✨ Clown Georg mit Mitmach-Show\, Zauberei & Jonglage\n🎠 Hüpfburgen\, Karussell & Kinderschminken\n🎶 Musik- und Tanzvorführungen am Alten Rathaus\n🛍️ Flohmarkt mit Trödel\, Vintage & regionalen Ständen\n🎺 Feuerwehrkapelle sorgt für Stimmung im Ort\nAuch das Künstlerdorf Schöppingen lädt ein:\n🖼️ Ausstellung „Essay on Togetherness“ (12–16 Uhr)\n🌱 Pflanzentauschaktion im Garten \nWeitere Highlights: \n🏡 Aktionen von Vereinen & Organisationen\n🍽️ Leckeres Essen von süß bis deftig\n🎟️ Gewinnspiel mit Bonuskarten \nEin perfekter Ausflug für die ganze Familie!
URL:https://trallafittikaline.de/event/fruehlingsfest-schoeppingen/
LOCATION:Schöppingen\, Schöppingen\, NRW\, 48624\, Germany
CATEGORIES:Flohmarkt,Outdoor,Stadtfest,Veranstaltung,Verkaufsoffener Sonntag
ATTACH;FMTTYPE=image/png:https://trallafittikaline.de/wp-content/uploads/Ballons_Himmel.png
END:VEVENT
END:VCALENDAR