BEGIN:VCALENDAR
VERSION:2.0
PRODID:-//Trallafitti Kaline - Die Ausflugsplattform im Münsterland - ECPv6.15.20//NONSGML v1.0//EN
CALSCALE:GREGORIAN
METHOD:PUBLISH
X-WR-CALNAME:Trallafitti Kaline - Die Ausflugsplattform im Münsterland
X-ORIGINAL-URL:https://trallafittikaline.de
X-WR-CALDESC:Veranstaltungen für Trallafitti Kaline - Die Ausflugsplattform im Münsterland
REFRESH-INTERVAL;VALUE=DURATION:PT1H
X-Robots-Tag:noindex
X-PUBLISHED-TTL:PT1H
BEGIN:VTIMEZONE
TZID:Europe/Paris
BEGIN:DAYLIGHT
TZOFFSETFROM:+0100
TZOFFSETTO:+0200
TZNAME:CEST
DTSTART:20250330T010000
END:DAYLIGHT
BEGIN:STANDARD
TZOFFSETFROM:+0200
TZOFFSETTO:+0100
TZNAME:CET
DTSTART:20251026T010000
END:STANDARD
BEGIN:DAYLIGHT
TZOFFSETFROM:+0100
TZOFFSETTO:+0200
TZNAME:CEST
DTSTART:20260329T010000
END:DAYLIGHT
BEGIN:STANDARD
TZOFFSETFROM:+0200
TZOFFSETTO:+0100
TZNAME:CET
DTSTART:20261025T010000
END:STANDARD
BEGIN:DAYLIGHT
TZOFFSETFROM:+0100
TZOFFSETTO:+0200
TZNAME:CEST
DTSTART:20270328T010000
END:DAYLIGHT
BEGIN:STANDARD
TZOFFSETFROM:+0200
TZOFFSETTO:+0100
TZNAME:CET
DTSTART:20271031T010000
END:STANDARD
END:VTIMEZONE
BEGIN:VEVENT
DTSTART;TZID=Europe/Paris:20260425T110000
DTEND;TZID=Europe/Paris:20260425T180000
DTSTAMP:20260424T160549
CREATED:20260422T204353Z
LAST-MODIFIED:20260422T204353Z
UID:10000134-1777114800-1777140000@trallafittikaline.de
SUMMARY:Tag der offenen Tore\, Feuerwehr Drensteinfurt
DESCRIPTION:Tag der offenen Tore \nLöschzug 1 der Feuerwehr Drensteinfurt \nSamstag 25.04. // 11:00 bis 18:00 Uhr \n14:00 Uhr // Showübung Brandeinsatz \n16:00 Uhr // Showübung Verkehrsunfall \nImbissstände und Getränkewagen \nCafeteria mit Kuchenbuffet \nSpiel und Spaß für Kinder \nMitmach-Stationen \nFahrzeugschau \nKonrad-Adenauer-Straße 30 \n48317 Drensteinfurt
URL:https://trallafittikaline.de/event/tag-der-offenen-tore-feuerwehr-drensteinfurt/
LOCATION:Feuerwehr Drensteinfurt\, Konrad-Adenauer-Straße 30\, Drensteinfurt\, NRW\, 48317\, Germany
CATEGORIES:Kreis Warendorf,Veranstaltung
ATTACH;FMTTYPE=image/png:https://trallafittikaline.de/wp-content/uploads/Ballons_Himmel.png
END:VEVENT
END:VCALENDAR