BEGIN:VCALENDAR
VERSION:2.0
PRODID:-//Trallafitti Kaline - Die Ausflugsplattform im Münsterland - ECPv6.15.20//NONSGML v1.0//EN
CALSCALE:GREGORIAN
METHOD:PUBLISH
X-ORIGINAL-URL:https://trallafittikaline.de
X-WR-CALDESC:Veranstaltungen für Trallafitti Kaline - Die Ausflugsplattform im Münsterland
REFRESH-INTERVAL;VALUE=DURATION:PT1H
X-Robots-Tag:noindex
X-PUBLISHED-TTL:PT1H
BEGIN:VTIMEZONE
TZID:Europe/Paris
BEGIN:DAYLIGHT
TZOFFSETFROM:+0100
TZOFFSETTO:+0200
TZNAME:CEST
DTSTART:20250330T010000
END:DAYLIGHT
BEGIN:STANDARD
TZOFFSETFROM:+0200
TZOFFSETTO:+0100
TZNAME:CET
DTSTART:20251026T010000
END:STANDARD
BEGIN:DAYLIGHT
TZOFFSETFROM:+0100
TZOFFSETTO:+0200
TZNAME:CEST
DTSTART:20260329T010000
END:DAYLIGHT
BEGIN:STANDARD
TZOFFSETFROM:+0200
TZOFFSETTO:+0100
TZNAME:CET
DTSTART:20261025T010000
END:STANDARD
BEGIN:DAYLIGHT
TZOFFSETFROM:+0100
TZOFFSETTO:+0200
TZNAME:CEST
DTSTART:20270328T010000
END:DAYLIGHT
BEGIN:STANDARD
TZOFFSETFROM:+0200
TZOFFSETTO:+0100
TZNAME:CET
DTSTART:20271031T010000
END:STANDARD
END:VTIMEZONE
BEGIN:VEVENT
DTSTART;TZID=Europe/Paris:20260426T080000
DTEND;TZID=Europe/Paris:20260426T180000
DTSTAMP:20260422T150914
CREATED:20260420T143245Z
LAST-MODIFIED:20260420T143245Z
UID:10000105-1777190400-1777226400@trallafittikaline.de
SUMMARY:Wettringer Dorffest
DESCRIPTION:Wettringer Dorffest \nEnde April ist es endlich wieder soweit und das alljährliche „Wettringer Dorffest“ findet statt \nAm Sonntag\, den 26. April 2026 erwarten euch zahlreiche Highlights im Dorfkern: \n\nFlohmarkt ab 08:00 Uhr\nOldtimer-Festival ab 10:00 Uhr\n\n\nFassanstich + Fruhschoppen ab 11:00 Uhr mit Bürgermeister @andreas.lastering\n\n\nCafeteria in der Bürgerhalle\nXXL Bühnenprogramm\nHüpfburg und Sitzfußball\nClown Svenaldo & kostenlose Bimmelbahn … und vieles\, vieles mehr!\n\nAb 13:00 Uhr öffnen die Geschäfte rund um den Dorfkern ihre Türen und laden Euch herzlich zum schauen\, stöbern und shoppen ein
URL:https://trallafittikaline.de/event/wettringer-dorffest/
LOCATION:Wettringen\, Wettringen\, NRW\, 48493\, Germany
CATEGORIES:Fahrradbörse,Flohmarkt,Kostenlos,Outdoor,Secondhand,Stadtfest,Veranstaltung,Verkaufsoffener Sonntag
ATTACH;FMTTYPE=image/png:https://trallafittikaline.de/wp-content/uploads/Ballons_Himmel.png
END:VEVENT
END:VCALENDAR