BEGIN:VCALENDAR
VERSION:2.0
PRODID:-//Trallafitti Kaline - Die Ausflugsplattform im Münsterland - ECPv6.15.20//NONSGML v1.0//EN
CALSCALE:GREGORIAN
METHOD:PUBLISH
X-WR-CALNAME:Trallafitti Kaline - Die Ausflugsplattform im Münsterland
X-ORIGINAL-URL:https://trallafittikaline.de
X-WR-CALDESC:Veranstaltungen für Trallafitti Kaline - Die Ausflugsplattform im Münsterland
REFRESH-INTERVAL;VALUE=DURATION:PT1H
X-Robots-Tag:noindex
X-PUBLISHED-TTL:PT1H
BEGIN:VTIMEZONE
TZID:Europe/Paris
BEGIN:DAYLIGHT
TZOFFSETFROM:+0100
TZOFFSETTO:+0200
TZNAME:CEST
DTSTART:20250330T010000
END:DAYLIGHT
BEGIN:STANDARD
TZOFFSETFROM:+0200
TZOFFSETTO:+0100
TZNAME:CET
DTSTART:20251026T010000
END:STANDARD
BEGIN:DAYLIGHT
TZOFFSETFROM:+0100
TZOFFSETTO:+0200
TZNAME:CEST
DTSTART:20260329T010000
END:DAYLIGHT
BEGIN:STANDARD
TZOFFSETFROM:+0200
TZOFFSETTO:+0100
TZNAME:CET
DTSTART:20261025T010000
END:STANDARD
BEGIN:DAYLIGHT
TZOFFSETFROM:+0100
TZOFFSETTO:+0200
TZNAME:CEST
DTSTART:20270328T010000
END:DAYLIGHT
BEGIN:STANDARD
TZOFFSETFROM:+0200
TZOFFSETTO:+0100
TZNAME:CET
DTSTART:20271031T010000
END:STANDARD
END:VTIMEZONE
BEGIN:VEVENT
DTSTART;TZID=Europe/Paris:20260424T140000
DTEND;TZID=Europe/Paris:20260424T213000
DTSTAMP:20260424T140946
CREATED:20260422T194427Z
LAST-MODIFIED:20260422T194427Z
UID:10000127-1777039200-1777066200@trallafittikaline.de
SUMMARY:Kirmes in Ostbevern
DESCRIPTION:Frühjahrskirmes Ostbevern 2026: Termine\, Highlights & Infos \nVom 24. bis 26. April 2026 verwandelt sich der Ortskern von Ostbevern wieder in eine bunte Rummel-Meile. Die beliebte Kirmes in Ostbevern lockt mit Fahrgeschäften\, Leckereien und einem abwechslungsreichen Programm für die ganze Familie. \nFreut euch auf Autoscooter\, Kinderkarussells und Spielstände wie Entenangeln\, Pfeilwerfen oder den Super-Greifer – mit vielen Gewinnen. Highlight: Am Freitag von 14–16 Uhr ist Happy Hour mit ermäßigten Fahrpreisen. \nAuch kulinarisch ist einiges geboten: Von gebrannten Mandeln\, Zuckerwatte\, Crêpes und Eis bis zu herzhaften Snacks und Getränken ist für jeden Geschmack etwas dabei. \nAm Freitag- und Samstagabend sorgt Live-Musik auf der Bühne vor dem Rathaus für Stimmung. Der verkaufsoffene Sonntag lädt zusätzlich zum entspannten Bummeln ein. \n👉 Flohmarkt-Tipp: Der Flohmarkt findet am Samstag & Sonntag auf dem Großen Kamp statt. Kinder verkaufen kostenlos\, Erwachsene zahlen 10 €. \nEin perfektes Ausflugsziel für Familien im Münsterland! 🎡 \n  \nProgramm: \nFreitag \n14.00 Uhr              Offizielle Eröffnung der Kirmes\nbis 16 Uhr             „Happy Hour“ (2 für 1 Angebote)\n19.30 Uhr              Live-Musik mit William Roine (Sparkassenbühne)\n20.15 Uhr              Camposada (Sparkassenbühne)\n21.00 Uhr              Feuershow „Piano de Feu“ (Kirchplatz)\n21.30 Uhr              Live-Musik mit William Roine (Sparkassenbühne) \nSamstag \n08.00 Uhr             Flohmarkt (Großer Kamp)\nab 14.00 Uhr         Cafeteria des Vereins Partnerschaft Ndaba-Ostbevern\nim Edith-Stein-Haus\n15.00 + 16.00 Uhr   Puppenbühne Adolf Hortz (Rathausplatz)\n20.00 Uhr              Live-Musik mit der „Soulfamily“ (Sparkassenbühne) \nSonntag \n08.00 Uhr             Flohmarkt (Großer Kamp)\nab 11.00 Uhr          Cafeteria des Vereins Partnerschaft Ndaba-Ostbevern\nim Edith-Stein-Haus\n13.00 – 17.00 Uhr   buntes Bühnenprogramm (Sparkassenbühne)\n13.00 – 18.00 Uhr   verkaufsoffener Sonntag\nab 14.30 Uhr         Puppenbühne Adolf Hortz (Rathausplatz)
URL:https://trallafittikaline.de/event/kirmes-in-ostbevern/2026-04-24/
LOCATION:Ostbevern\, Ostbevern\, NRW\, 48346\, Germany
CATEGORIES:Flohmarkt,Kirmes,Kostenlos,Kreis Warendorf,Outdoor,Secondhand,Stadtfest,Veranstaltung,Verkaufsoffener Sonntag
ATTACH;FMTTYPE=image/png:https://trallafittikaline.de/wp-content/uploads/Kirmes.png
ORGANIZER;CN="Gemeinde Ostbevern":MAILTO:gemeinde@ostbevern.de
END:VEVENT
BEGIN:VEVENT
DTSTART;TZID=Europe/Paris:20260425T080000
DTEND;TZID=Europe/Paris:20260425T200000
DTSTAMP:20260424T140946
CREATED:20260422T194427Z
LAST-MODIFIED:20260422T194427Z
UID:10000128-1777104000-1777147200@trallafittikaline.de
SUMMARY:Kirmes in Ostbevern
DESCRIPTION:Frühjahrskirmes Ostbevern 2026: Termine\, Highlights & Infos \nVom 24. bis 26. April 2026 verwandelt sich der Ortskern von Ostbevern wieder in eine bunte Rummel-Meile. Die beliebte Kirmes in Ostbevern lockt mit Fahrgeschäften\, Leckereien und einem abwechslungsreichen Programm für die ganze Familie. \nFreut euch auf Autoscooter\, Kinderkarussells und Spielstände wie Entenangeln\, Pfeilwerfen oder den Super-Greifer – mit vielen Gewinnen. Highlight: Am Freitag von 14–16 Uhr ist Happy Hour mit ermäßigten Fahrpreisen. \nAuch kulinarisch ist einiges geboten: Von gebrannten Mandeln\, Zuckerwatte\, Crêpes und Eis bis zu herzhaften Snacks und Getränken ist für jeden Geschmack etwas dabei. \nAm Freitag- und Samstagabend sorgt Live-Musik auf der Bühne vor dem Rathaus für Stimmung. Der verkaufsoffene Sonntag lädt zusätzlich zum entspannten Bummeln ein. \n👉 Flohmarkt-Tipp: Der Flohmarkt findet am Samstag & Sonntag auf dem Großen Kamp statt. Kinder verkaufen kostenlos\, Erwachsene zahlen 10 €. \nEin perfektes Ausflugsziel für Familien im Münsterland! 🎡 \n  \nProgramm: \nFreitag \n14.00 Uhr              Offizielle Eröffnung der Kirmes\nbis 16 Uhr             „Happy Hour“ (2 für 1 Angebote)\n19.30 Uhr              Live-Musik mit William Roine (Sparkassenbühne)\n20.15 Uhr              Camposada (Sparkassenbühne)\n21.00 Uhr              Feuershow „Piano de Feu“ (Kirchplatz)\n21.30 Uhr              Live-Musik mit William Roine (Sparkassenbühne) \nSamstag \n08.00 Uhr             Flohmarkt (Großer Kamp)\nab 14.00 Uhr         Cafeteria des Vereins Partnerschaft Ndaba-Ostbevern\nim Edith-Stein-Haus\n15.00 + 16.00 Uhr   Puppenbühne Adolf Hortz (Rathausplatz)\n20.00 Uhr              Live-Musik mit der „Soulfamily“ (Sparkassenbühne) \nSonntag \n08.00 Uhr             Flohmarkt (Großer Kamp)\nab 11.00 Uhr          Cafeteria des Vereins Partnerschaft Ndaba-Ostbevern\nim Edith-Stein-Haus\n13.00 – 17.00 Uhr   buntes Bühnenprogramm (Sparkassenbühne)\n13.00 – 18.00 Uhr   verkaufsoffener Sonntag\nab 14.30 Uhr         Puppenbühne Adolf Hortz (Rathausplatz)
URL:https://trallafittikaline.de/event/kirmes-in-ostbevern/2026-04-25/
LOCATION:Ostbevern\, Ostbevern\, NRW\, 48346\, Germany
CATEGORIES:Flohmarkt,Kirmes,Kostenlos,Kreis Warendorf,Outdoor,Secondhand,Stadtfest,Veranstaltung,Verkaufsoffener Sonntag
ATTACH;FMTTYPE=image/png:https://trallafittikaline.de/wp-content/uploads/Kirmes.png
ORGANIZER;CN="Gemeinde Ostbevern":MAILTO:gemeinde@ostbevern.de
END:VEVENT
BEGIN:VEVENT
DTSTART;TZID=Europe/Paris:20260426T080000
DTEND;TZID=Europe/Paris:20260426T143000
DTSTAMP:20260424T140946
CREATED:20260422T194427Z
LAST-MODIFIED:20260422T194427Z
UID:10000129-1777190400-1777213800@trallafittikaline.de
SUMMARY:Kirmes in Ostbevern
DESCRIPTION:Frühjahrskirmes Ostbevern 2026: Termine\, Highlights & Infos \nVom 24. bis 26. April 2026 verwandelt sich der Ortskern von Ostbevern wieder in eine bunte Rummel-Meile. Die beliebte Kirmes in Ostbevern lockt mit Fahrgeschäften\, Leckereien und einem abwechslungsreichen Programm für die ganze Familie. \nFreut euch auf Autoscooter\, Kinderkarussells und Spielstände wie Entenangeln\, Pfeilwerfen oder den Super-Greifer – mit vielen Gewinnen. Highlight: Am Freitag von 14–16 Uhr ist Happy Hour mit ermäßigten Fahrpreisen. \nAuch kulinarisch ist einiges geboten: Von gebrannten Mandeln\, Zuckerwatte\, Crêpes und Eis bis zu herzhaften Snacks und Getränken ist für jeden Geschmack etwas dabei. \nAm Freitag- und Samstagabend sorgt Live-Musik auf der Bühne vor dem Rathaus für Stimmung. Der verkaufsoffene Sonntag lädt zusätzlich zum entspannten Bummeln ein. \n👉 Flohmarkt-Tipp: Der Flohmarkt findet am Samstag & Sonntag auf dem Großen Kamp statt. Kinder verkaufen kostenlos\, Erwachsene zahlen 10 €. \nEin perfektes Ausflugsziel für Familien im Münsterland! 🎡 \n  \nProgramm: \nFreitag \n14.00 Uhr              Offizielle Eröffnung der Kirmes\nbis 16 Uhr             „Happy Hour“ (2 für 1 Angebote)\n19.30 Uhr              Live-Musik mit William Roine (Sparkassenbühne)\n20.15 Uhr              Camposada (Sparkassenbühne)\n21.00 Uhr              Feuershow „Piano de Feu“ (Kirchplatz)\n21.30 Uhr              Live-Musik mit William Roine (Sparkassenbühne) \nSamstag \n08.00 Uhr             Flohmarkt (Großer Kamp)\nab 14.00 Uhr         Cafeteria des Vereins Partnerschaft Ndaba-Ostbevern\nim Edith-Stein-Haus\n15.00 + 16.00 Uhr   Puppenbühne Adolf Hortz (Rathausplatz)\n20.00 Uhr              Live-Musik mit der „Soulfamily“ (Sparkassenbühne) \nSonntag \n08.00 Uhr             Flohmarkt (Großer Kamp)\nab 11.00 Uhr          Cafeteria des Vereins Partnerschaft Ndaba-Ostbevern\nim Edith-Stein-Haus\n13.00 – 17.00 Uhr   buntes Bühnenprogramm (Sparkassenbühne)\n13.00 – 18.00 Uhr   verkaufsoffener Sonntag\nab 14.30 Uhr         Puppenbühne Adolf Hortz (Rathausplatz)
URL:https://trallafittikaline.de/event/kirmes-in-ostbevern/2026-04-26/
LOCATION:Ostbevern\, Ostbevern\, NRW\, 48346\, Germany
CATEGORIES:Flohmarkt,Kirmes,Kostenlos,Kreis Warendorf,Outdoor,Secondhand,Stadtfest,Veranstaltung,Verkaufsoffener Sonntag
ATTACH;FMTTYPE=image/png:https://trallafittikaline.de/wp-content/uploads/Kirmes.png
ORGANIZER;CN="Gemeinde Ostbevern":MAILTO:gemeinde@ostbevern.de
END:VEVENT
END:VCALENDAR