BEGIN:VCALENDAR
VERSION:2.0
PRODID:-//Trallafitti Kaline - Die Ausflugsplattform im Münsterland - ECPv6.15.20//NONSGML v1.0//EN
CALSCALE:GREGORIAN
METHOD:PUBLISH
X-WR-CALNAME:Trallafitti Kaline - Die Ausflugsplattform im Münsterland
X-ORIGINAL-URL:https://trallafittikaline.de
X-WR-CALDESC:Veranstaltungen für Trallafitti Kaline - Die Ausflugsplattform im Münsterland
REFRESH-INTERVAL;VALUE=DURATION:PT1H
X-Robots-Tag:noindex
X-PUBLISHED-TTL:PT1H
BEGIN:VTIMEZONE
TZID:Europe/Paris
BEGIN:DAYLIGHT
TZOFFSETFROM:+0100
TZOFFSETTO:+0200
TZNAME:CEST
DTSTART:20250330T010000
END:DAYLIGHT
BEGIN:STANDARD
TZOFFSETFROM:+0200
TZOFFSETTO:+0100
TZNAME:CET
DTSTART:20251026T010000
END:STANDARD
BEGIN:DAYLIGHT
TZOFFSETFROM:+0100
TZOFFSETTO:+0200
TZNAME:CEST
DTSTART:20260329T010000
END:DAYLIGHT
BEGIN:STANDARD
TZOFFSETFROM:+0200
TZOFFSETTO:+0100
TZNAME:CET
DTSTART:20261025T010000
END:STANDARD
BEGIN:DAYLIGHT
TZOFFSETFROM:+0100
TZOFFSETTO:+0200
TZNAME:CEST
DTSTART:20270328T010000
END:DAYLIGHT
BEGIN:STANDARD
TZOFFSETFROM:+0200
TZOFFSETTO:+0100
TZNAME:CET
DTSTART:20271031T010000
END:STANDARD
END:VTIMEZONE
BEGIN:VEVENT
DTSTART;TZID=Europe/Paris:20260424T140000
DTEND;TZID=Europe/Paris:20260424T220000
DTSTAMP:20260422T134443
CREATED:20260421T150121Z
LAST-MODIFIED:20260422T054902Z
UID:10000121-1777039200-1777068000@trallafittikaline.de
SUMMARY:Kirmes in Billerbeck
DESCRIPTION:Vom 24. bis 26. April ist wieder Kirmes auf dem Rathausplatz 🎠 \nAutoscooter\, Kinderkarussell\, Spielbuden und Kirmesleckereien sorgen für echtes Kirmesgefühl\n📅 Freitag und Samstag von 14:00 bis 22:00 Uhr\n📅 Sonntag von 12:00 bis 21:00 Uhr \n👉 Freitag Familientag „2 Fahrten für 1 Karte“\n📖 Sonntag Büchermarkt am Johannikirchplatz und in der Langen Straße (11:00 bis 18:00 Uhr)\n🧒 Kinder Bücherflohmarkt an der Münsterstraße/Lange Straße ab 10:00 Uhr\n🏪 Verkaufsoffen von 13:00 bis 18:00 Uhr \nPerfekt für einen Ausflug mit der ganzen Familie. 👨‍👩‍👧‍👦 \n⚠️ Wichtig für euch\nDer Rathausparkplatz ist wegen Aufbau und Kirmes zeitweise gesperrt\n👉 ab Montagmittag teilweise (Nebenparkplatz)\n👉 ab Mittwoch komplett \nDanke für euer Verständnis und plant das bitte bei eurer Anfahrt ein.
URL:https://trallafittikaline.de/event/2325/2026-04-24/
LOCATION:Billerbeck\, Billerbeck\, NRW\, 48727\, Germany
CATEGORIES:Flohmarkt,Kirmes,Kostenlos,Kreis Coesfeld,Secondhand,Stadtfest,Veranstaltung,Verkaufsoffener Sonntag
ATTACH;FMTTYPE=image/png:https://trallafittikaline.de/wp-content/uploads/Kirmes.png
ORGANIZER;CN="Stadt Billerbeck":MAILTO:stadt@billerbeck.de
END:VEVENT
BEGIN:VEVENT
DTSTART;TZID=Europe/Paris:20260425T140000
DTEND;TZID=Europe/Paris:20260425T220000
DTSTAMP:20260422T134443
CREATED:20260421T150121Z
LAST-MODIFIED:20260422T054902Z
UID:10000122-1777125600-1777154400@trallafittikaline.de
SUMMARY:Kirmes in Billerbeck
DESCRIPTION:Vom 24. bis 26. April ist wieder Kirmes auf dem Rathausplatz 🎠 \nAutoscooter\, Kinderkarussell\, Spielbuden und Kirmesleckereien sorgen für echtes Kirmesgefühl\n📅 Freitag und Samstag von 14:00 bis 22:00 Uhr\n📅 Sonntag von 12:00 bis 21:00 Uhr \n👉 Freitag Familientag „2 Fahrten für 1 Karte“\n📖 Sonntag Büchermarkt am Johannikirchplatz und in der Langen Straße (11:00 bis 18:00 Uhr)\n🧒 Kinder Bücherflohmarkt an der Münsterstraße/Lange Straße ab 10:00 Uhr\n🏪 Verkaufsoffen von 13:00 bis 18:00 Uhr \nPerfekt für einen Ausflug mit der ganzen Familie. 👨‍👩‍👧‍👦 \n⚠️ Wichtig für euch\nDer Rathausparkplatz ist wegen Aufbau und Kirmes zeitweise gesperrt\n👉 ab Montagmittag teilweise (Nebenparkplatz)\n👉 ab Mittwoch komplett \nDanke für euer Verständnis und plant das bitte bei eurer Anfahrt ein.
URL:https://trallafittikaline.de/event/2325/2026-04-25/
LOCATION:Billerbeck\, Billerbeck\, NRW\, 48727\, Germany
CATEGORIES:Flohmarkt,Kirmes,Kostenlos,Kreis Coesfeld,Secondhand,Stadtfest,Veranstaltung,Verkaufsoffener Sonntag
ATTACH;FMTTYPE=image/png:https://trallafittikaline.de/wp-content/uploads/Kirmes.png
ORGANIZER;CN="Stadt Billerbeck":MAILTO:stadt@billerbeck.de
END:VEVENT
BEGIN:VEVENT
DTSTART;TZID=Europe/Paris:20260426T120000
DTEND;TZID=Europe/Paris:20260426T210000
DTSTAMP:20260422T134443
CREATED:20260421T150121Z
LAST-MODIFIED:20260422T054902Z
UID:10000123-1777204800-1777237200@trallafittikaline.de
SUMMARY:Kirmes in Billerbeck
DESCRIPTION:Vom 24. bis 26. April ist wieder Kirmes auf dem Rathausplatz 🎠 \nAutoscooter\, Kinderkarussell\, Spielbuden und Kirmesleckereien sorgen für echtes Kirmesgefühl\n📅 Freitag und Samstag von 14:00 bis 22:00 Uhr\n📅 Sonntag von 12:00 bis 21:00 Uhr \n👉 Freitag Familientag „2 Fahrten für 1 Karte“\n📖 Sonntag Büchermarkt am Johannikirchplatz und in der Langen Straße (11:00 bis 18:00 Uhr)\n🧒 Kinder Bücherflohmarkt an der Münsterstraße/Lange Straße ab 10:00 Uhr\n🏪 Verkaufsoffen von 13:00 bis 18:00 Uhr \nPerfekt für einen Ausflug mit der ganzen Familie. 👨‍👩‍👧‍👦 \n⚠️ Wichtig für euch\nDer Rathausparkplatz ist wegen Aufbau und Kirmes zeitweise gesperrt\n👉 ab Montagmittag teilweise (Nebenparkplatz)\n👉 ab Mittwoch komplett \nDanke für euer Verständnis und plant das bitte bei eurer Anfahrt ein.
URL:https://trallafittikaline.de/event/2325/2026-04-26/
LOCATION:Billerbeck\, Billerbeck\, NRW\, 48727\, Germany
CATEGORIES:Flohmarkt,Kirmes,Kostenlos,Kreis Coesfeld,Secondhand,Stadtfest,Veranstaltung,Verkaufsoffener Sonntag
ATTACH;FMTTYPE=image/png:https://trallafittikaline.de/wp-content/uploads/Kirmes.png
ORGANIZER;CN="Stadt Billerbeck":MAILTO:stadt@billerbeck.de
END:VEVENT
END:VCALENDAR