BEGIN:VCALENDAR
VERSION:2.0
PRODID:-//Trallafitti Kaline - Die Ausflugsplattform im Münsterland - ECPv6.15.20//NONSGML v1.0//EN
CALSCALE:GREGORIAN
METHOD:PUBLISH
X-WR-CALNAME:Trallafitti Kaline - Die Ausflugsplattform im Münsterland
X-ORIGINAL-URL:https://trallafittikaline.de
X-WR-CALDESC:Veranstaltungen für Trallafitti Kaline - Die Ausflugsplattform im Münsterland
REFRESH-INTERVAL;VALUE=DURATION:PT1H
X-Robots-Tag:noindex
X-PUBLISHED-TTL:PT1H
BEGIN:VTIMEZONE
TZID:Europe/Paris
BEGIN:DAYLIGHT
TZOFFSETFROM:+0100
TZOFFSETTO:+0200
TZNAME:CEST
DTSTART:20250330T010000
END:DAYLIGHT
BEGIN:STANDARD
TZOFFSETFROM:+0200
TZOFFSETTO:+0100
TZNAME:CET
DTSTART:20251026T010000
END:STANDARD
BEGIN:DAYLIGHT
TZOFFSETFROM:+0100
TZOFFSETTO:+0200
TZNAME:CEST
DTSTART:20260329T010000
END:DAYLIGHT
BEGIN:STANDARD
TZOFFSETFROM:+0200
TZOFFSETTO:+0100
TZNAME:CET
DTSTART:20261025T010000
END:STANDARD
BEGIN:DAYLIGHT
TZOFFSETFROM:+0100
TZOFFSETTO:+0200
TZNAME:CEST
DTSTART:20270328T010000
END:DAYLIGHT
BEGIN:STANDARD
TZOFFSETFROM:+0200
TZOFFSETTO:+0100
TZNAME:CET
DTSTART:20271031T010000
END:STANDARD
END:VTIMEZONE
BEGIN:VEVENT
DTSTART;TZID=Europe/Paris:20260425T101500
DTEND;TZID=Europe/Paris:20260425T111500
DTSTAMP:20260422T134502
CREATED:20260420T135316Z
LAST-MODIFIED:20260420T135316Z
UID:10000098-1777112100-1777115700@trallafittikaline.de
SUMMARY:Q.UNI unterwegs
DESCRIPTION:Q.UNI ist wieder unterwegs in der Stadtbücherei Münster! \nDiesmal geht’s mit der „Kletterrakete – Von der Schnur ins All“ hoch hinaus. Gemeinsam basteln wir eine eigene Kletterrakete und entdecken spielerisch\, wie das Rückstoßprinzip funktioniert. \nSamstag\, 25. April 10:15-11:15 Uhr und 11:30-12:30 Uhr \nStadtbücherei Münster\, Kinderbücherei\, Alter Steinweg 11 \nDer Workshop richtet sich an Kinder von 6 bis 10 Jahren. \nMaximal 12 Kinder pro Durchgang! \nKostenlose Teilnahmekarten gibt es ab 10 Uhr in der Kinderbücherei. \nDie Aufsichtspflicht liegt bei den Erziehungsberechtigten. \n 
URL:https://trallafittikaline.de/event/q-uni-unterwegs/2026-04-25/1/
LOCATION:Stadtbücherei Münster\, Alter Steinweg 11\, Münster\, 48143\, Germany
CATEGORIES:Für Kinder ab 6 Jahren,Kostenlos,Kurse für Kinder,Veranstaltung
ATTACH;FMTTYPE=image/png:https://trallafittikaline.de/wp-content/uploads/Kinder-Uni.png
ORGANIZER;CN="Q.UNI - Kinder- und Jugend-Uni M%C3%BCnster":MAILTO:quni@uni-muenster.de
END:VEVENT
BEGIN:VEVENT
DTSTART;TZID=Europe/Paris:20260425T113000
DTEND;TZID=Europe/Paris:20260425T123000
DTSTAMP:20260422T134502
CREATED:20260420T135316Z
LAST-MODIFIED:20260420T135316Z
UID:10000099-1777116600-1777120200@trallafittikaline.de
SUMMARY:Q.UNI unterwegs
DESCRIPTION:Q.UNI ist wieder unterwegs in der Stadtbücherei Münster! \nDiesmal geht’s mit der „Kletterrakete – Von der Schnur ins All“ hoch hinaus. Gemeinsam basteln wir eine eigene Kletterrakete und entdecken spielerisch\, wie das Rückstoßprinzip funktioniert. \nSamstag\, 25. April 10:15-11:15 Uhr und 11:30-12:30 Uhr \nStadtbücherei Münster\, Kinderbücherei\, Alter Steinweg 11 \nDer Workshop richtet sich an Kinder von 6 bis 10 Jahren. \nMaximal 12 Kinder pro Durchgang! \nKostenlose Teilnahmekarten gibt es ab 10 Uhr in der Kinderbücherei. \nDie Aufsichtspflicht liegt bei den Erziehungsberechtigten. \n 
URL:https://trallafittikaline.de/event/q-uni-unterwegs/2026-04-25/2/
LOCATION:Stadtbücherei Münster\, Alter Steinweg 11\, Münster\, 48143\, Germany
CATEGORIES:Für Kinder ab 6 Jahren,Kostenlos,Kurse für Kinder,Veranstaltung
ATTACH;FMTTYPE=image/png:https://trallafittikaline.de/wp-content/uploads/Kinder-Uni.png
ORGANIZER;CN="Q.UNI - Kinder- und Jugend-Uni M%C3%BCnster":MAILTO:quni@uni-muenster.de
END:VEVENT
END:VCALENDAR